BEGIN:VCALENDAR
VERSION:2.0
PRODID:-//Freiwillige Feuerwehr Kreuzberg - ECPv6.15.20//NONSGML v1.0//EN
CALSCALE:GREGORIAN
METHOD:PUBLISH
X-WR-CALNAME:Freiwillige Feuerwehr Kreuzberg
X-ORIGINAL-URL:https://ff-kreuzberg.de
X-WR-CALDESC:Veranstaltungen für Freiwillige Feuerwehr Kreuzberg
REFRESH-INTERVAL;VALUE=DURATION:PT1H
X-Robots-Tag:noindex
X-PUBLISHED-TTL:PT1H
BEGIN:VTIMEZONE
TZID:Europe/Berlin
BEGIN:DAYLIGHT
TZOFFSETFROM:+0100
TZOFFSETTO:+0200
TZNAME:CEST
DTSTART:20250330T010000
END:DAYLIGHT
BEGIN:STANDARD
TZOFFSETFROM:+0200
TZOFFSETTO:+0100
TZNAME:CET
DTSTART:20251026T010000
END:STANDARD
BEGIN:DAYLIGHT
TZOFFSETFROM:+0100
TZOFFSETTO:+0200
TZNAME:CEST
DTSTART:20260329T010000
END:DAYLIGHT
BEGIN:STANDARD
TZOFFSETFROM:+0200
TZOFFSETTO:+0100
TZNAME:CET
DTSTART:20261025T010000
END:STANDARD
BEGIN:DAYLIGHT
TZOFFSETFROM:+0100
TZOFFSETTO:+0200
TZNAME:CEST
DTSTART:20270328T010000
END:DAYLIGHT
BEGIN:STANDARD
TZOFFSETFROM:+0200
TZOFFSETTO:+0100
TZNAME:CET
DTSTART:20271031T010000
END:STANDARD
END:VTIMEZONE
BEGIN:VEVENT
DTSTART;TZID=Europe/Berlin:20260425T090000
DTEND;TZID=Europe/Berlin:20260425T130000
DTSTAMP:20260425T122253
CREATED:20260110T154103Z
LAST-MODIFIED:20260110T154333Z
UID:10632-1777107600-1777122000@ff-kreuzberg.de
SUMMARY:Führjahrsputz 2026
DESCRIPTION:Übungsdatum: 25.04.2026Übungsuhrzeit: 9:00 UhrÜbungsart: FrühjahrsputzÜbungsort: KreuzbergÜbungsleiter: Alle
URL:https://ff-kreuzberg.de/event/fuhrjahrsputz-event2026
CATEGORIES:Sonstiges
ATTACH;FMTTYPE=image/jpeg:https://ff-kreuzberg.de/wp-content/uploads/2025/04/FF-Kreuzberg-Fruehjahrsputz-2025-Unser-LF10.jpg
END:VEVENT
BEGIN:VEVENT
DTSTART;TZID=Europe/Berlin:20260501T100000
DTEND;TZID=Europe/Berlin:20260501T160000
DTSTAMP:20260425T122253
CREATED:20260425T045932Z
LAST-MODIFIED:20260425T045935Z
UID:11725-1777629600-1777651200@ff-kreuzberg.de
SUMMARY:DSKB Kreuzberg: Maibaumaufstellen
DESCRIPTION:Der DSKB Kreuzberg ist turnusmäßig wieder mit dem Maibaum umlegen und aufstellen dran. Wir werden den Maibaum am 01.05.2026 um ca. 10.00 Uhr umlegen und dann herrichten\, gegen 12.00 Uhr möchten wir denn Baum dann aufstellen. Wir bitten um tatkräftige Unterstützung. 💪💪Nach dem aufstellen wird vor der „Alten Schule“ gegrillt. 🥩🌭🥓Schaut bitte zahlreich vorbei.Die Vorstandschaft des DSKB kreuzberg
URL:https://ff-kreuzberg.de/event/dskb-kreuzberg-maibaumaufstellen
END:VEVENT
BEGIN:VEVENT
DTSTART;TZID=Europe/Berlin:20260515T190000
DTEND;TZID=Europe/Berlin:20260515T210000
DTSTAMP:20260425T122253
CREATED:20260110T154253Z
LAST-MODIFIED:20260110T154255Z
UID:10634-1778871600-1778878800@ff-kreuzberg.de
SUMMARY:Funkübung - AFS Freyung
DESCRIPTION:Übungsdatum: 15.05.2026Übungsuhrzeit: 19:00 UhrÜbungsart: FunkübungÜbungsort: FreyungÜbungsleiter: Patrick Praml
URL:https://ff-kreuzberg.de/event/funkuebung-afs-freyung
CATEGORIES:Funkübung
ATTACH;FMTTYPE=image/jpeg:https://ff-kreuzberg.de/wp-content/uploads/2025/09/FF-Kreuzberg-Funkuebung-AFS-19.09.2025-Funkgeraet.jpg
END:VEVENT
BEGIN:VEVENT
DTSTART;TZID=Europe/Berlin:20260518T184500
DTEND;TZID=Europe/Berlin:20260518T210000
DTSTAMP:20260425T122253
CREATED:20260110T154534Z
LAST-MODIFIED:20260110T154537Z
UID:10637-1779129900-1779138000@ff-kreuzberg.de
SUMMARY:Atemschutzübung - Grafenau - Termin 1
DESCRIPTION:Übungsdatum: 18.05.2026Übungsuhrzeit: 18:45 UhrÜbungsart: AtemschutzÜbungsort: GrafenauÜbungsleiter: Markus Raab
URL:https://ff-kreuzberg.de/event/atemschutzuebung-grafenau-termin-1
CATEGORIES:Atemschutzübung
ATTACH;FMTTYPE=image/jpeg:https://ff-kreuzberg.de/wp-content/uploads/2023/07/FF-Kreuzberg-Atemschutzuebungsstrecke-Grafenau-28.07.2023-Belastungsuebung.jpg
END:VEVENT
BEGIN:VEVENT
DTSTART;TZID=Europe/Berlin:20260529T190000
DTEND;TZID=Europe/Berlin:20260529T220000
DTSTAMP:20260425T122253
CREATED:20260110T154743Z
LAST-MODIFIED:20260110T154747Z
UID:10639-1780081200-1780092000@ff-kreuzberg.de
SUMMARY:Hauptübung - Kreuzberg
DESCRIPTION:Übungsdatum: 29.05.2026Übungsuhrzeit: 19:00 UhrÜbungsart: HauptübungÜbungsort: KreuzbergÜbungsleiter: Fabian Seidl
URL:https://ff-kreuzberg.de/event/hauptubung-kreuzberg-event2026-2
CATEGORIES:Hauptübung
ATTACH;FMTTYPE=image/jpeg:https://ff-kreuzberg.de/wp-content/uploads/2023/07/FF-Kreuzberg-Hauptuebung-Schwimmsaugkorb-30.06.2023-Saugleitung.jpg
END:VEVENT
BEGIN:VEVENT
DTSTART;TZID=Europe/Berlin:20260612T190000
DTEND;TZID=Europe/Berlin:20260612T220000
DTSTAMP:20260425T122253
CREATED:20260110T153739Z
LAST-MODIFIED:20260211T145041Z
UID:10630-1781290800-1781301600@ff-kreuzberg.de
SUMMARY:Gemeinschaftsübung - Kreuzberg
DESCRIPTION:Übungsdatum: 12.06.2026Übungsuhrzeit: 19:00 UhrÜbungsart: GemeinschaftsübungÜbungsort: KreuzbergÜbungsleiter: Patrick Praml
URL:https://ff-kreuzberg.de/event/gemeinschaftsubung-kreuzberg-event2026
CATEGORIES:Gemeinschaftsübung
ATTACH;FMTTYPE=image/jpeg:https://ff-kreuzberg.de/wp-content/uploads/2024/06/FF-Kreuzberg-Gemeinschaftsuebung-Kreuzberg-2024-Blick-auf-das-Uebungsobjekt.jpg
END:VEVENT
BEGIN:VEVENT
DTSTART;TZID=Europe/Berlin:20260619T190000
DTEND;TZID=Europe/Berlin:20260619T220000
DTSTAMP:20260425T122253
CREATED:20260110T155134Z
LAST-MODIFIED:20260110T155136Z
UID:10643-1781895600-1781906400@ff-kreuzberg.de
SUMMARY:Hauptübung - Kreuzberg
DESCRIPTION:Übungsdatum: 19.06.2026Übungsuhrzeit: 19:00 UhrÜbungsart: HauptübungÜbungsort: KreuzbergÜbungsleiter: Kevin Frank
URL:https://ff-kreuzberg.de/event/hauptubung-kreuzberg-event2026-3
CATEGORIES:Hauptübung
ATTACH;FMTTYPE=image/jpeg:https://ff-kreuzberg.de/wp-content/uploads/2022/07/FF-Kreuzberg-Einsatz-29.07.2022-Baum-ueber-Strasse.jpg
END:VEVENT
BEGIN:VEVENT
DTSTART;TZID=Europe/Berlin:20260715T190000
DTEND;TZID=Europe/Berlin:20260715T220000
DTSTAMP:20260425T122253
CREATED:20260110T155309Z
LAST-MODIFIED:20260110T155354Z
UID:10645-1784142000-1784152800@ff-kreuzberg.de
SUMMARY:Funkübung - KBM-Bereich
DESCRIPTION:Übungsdatum: 15.07.2026Übungsuhrzeit: 19:00 UhrÜbungsart: FunkübungÜbungsort: KBM-BereichÜbungsleiter: Patrick Praml
URL:https://ff-kreuzberg.de/event/funkuebung-kbm-bereich
CATEGORIES:Funkübung
ATTACH;FMTTYPE=image/jpeg:https://ff-kreuzberg.de/wp-content/uploads/2025/07/FF-Kreuzberg-Funkuebung-Neureut-18.08.2025-Blick-auf-die-Funkgeraete.jpg
END:VEVENT
BEGIN:VEVENT
DTSTART;TZID=Europe/Berlin:20260731T190000
DTEND;TZID=Europe/Berlin:20260731T220000
DTSTAMP:20260425T122253
CREATED:20260110T155533Z
LAST-MODIFIED:20260110T155536Z
UID:10649-1785524400-1785535200@ff-kreuzberg.de
SUMMARY:Aktivenfest 2026
DESCRIPTION:Übungsdatum: 31.07.2026Übungsuhrzeit: 19:00 UhrÜbungsart: AktivenfestÜbungsort: KreuzbergÜbungsleiter: Alle
URL:https://ff-kreuzberg.de/event/aktivenfest-2026
CATEGORIES:Sonstiges
ATTACH;FMTTYPE=image/jpeg:https://ff-kreuzberg.de/wp-content/uploads/2022/09/FF-Kreuzberg-Einsatzuebung-und-Aktivenfeier-Grillgut-vom-Bavarian-Feierdeife.jpg
END:VEVENT
BEGIN:VEVENT
DTSTART;TZID=Europe/Berlin:20260821T190000
DTEND;TZID=Europe/Berlin:20260821T220000
DTSTAMP:20260425T122253
CREATED:20260110T155711Z
LAST-MODIFIED:20260110T155715Z
UID:10651-1787338800-1787349600@ff-kreuzberg.de
SUMMARY:Atemschutzübung - Grafenau - Termin 2
DESCRIPTION:Übungsdatum: 21.08.2026Übungsuhrzeit: 19:00 UhrÜbungsart: AtemschutzÜbungsort: GrafenauÜbungsleiter: Markus Raab
URL:https://ff-kreuzberg.de/event/atemschutzuebung-grafenau-termin-2
CATEGORIES:Atemschutzübung
ATTACH;FMTTYPE=image/jpeg:https://ff-kreuzberg.de/wp-content/uploads/2024/06/FF-Kreuzberg-Atemschutzuebung-Grafenau-07.06.2024-Unsere-Atemschutzgeraete.jpeg
END:VEVENT
BEGIN:VEVENT
DTSTART;TZID=Europe/Berlin:20260905T190000
DTEND;TZID=Europe/Berlin:20260905T220000
DTSTAMP:20260425T122253
CREATED:20260110T160112Z
LAST-MODIFIED:20260110T160116Z
UID:10653-1788634800-1788645600@ff-kreuzberg.de
SUMMARY:Gemeinschaftsübung - Winkelbrunn
DESCRIPTION:Übungsdatum: 05.09.2026Übungsuhrzeit: 19:00 UhrÜbungsart: GemeinschaftsübungÜbungsort: WinkelbrunnÜbungsleiter: Patrick Praml
URL:https://ff-kreuzberg.de/event/gemeinschaftsuebung-winkelbrunn
CATEGORIES:Gemeinschaftsübung
ATTACH;FMTTYPE=image/jpeg:https://ff-kreuzberg.de/wp-content/uploads/2025/10/FF-Kreuzberg-Gemeinschaftsuebung-2025-Unser-LF10.jpg
END:VEVENT
BEGIN:VEVENT
DTSTART;TZID=Europe/Berlin:20260913T180000
DTEND;TZID=Europe/Berlin:20260913T220000
DTSTAMP:20260425T122253
CREATED:20260110T160340Z
LAST-MODIFIED:20260110T163941Z
UID:10655-1789322400-1789336800@ff-kreuzberg.de
SUMMARY:Übung - Leistungsabzeichen - Termin 1
DESCRIPTION:Übungsdatum: 13.09.2026Übungsuhrzeit: 18:00 UhrÜbungsart: Übung LeistungsabzeichenÜbungsort: KreuzbergÜbungsleiter: Patrick Praml
URL:https://ff-kreuzberg.de/event/uebung-leistungsabzeichen-termin-1
CATEGORIES:Leistungsabzeichen
ATTACH;FMTTYPE=image/jpeg:https://ff-kreuzberg.de/wp-content/uploads/2024/10/FF-Kreuzberg-Leistungsabzeichen-2024-Schlauchtrupp-im-Einsatz.jpg
END:VEVENT
BEGIN:VEVENT
DTSTART;TZID=Europe/Berlin:20260918T190000
DTEND;TZID=Europe/Berlin:20260918T220000
DTSTAMP:20260425T122253
CREATED:20260110T160536Z
LAST-MODIFIED:20260110T160538Z
UID:10658-1789758000-1789768800@ff-kreuzberg.de
SUMMARY:Gemeinschaftsübung - Brandschutzwoche
DESCRIPTION:Übungsdatum: 18.09.2026Übungsuhrzeit: 19:00 UhrÜbungsart: GemeinschaftsübungÜbungsort: UnbekanntÜbungsleiter: Wolfgang Nußhart
URL:https://ff-kreuzberg.de/event/gemeinschaftsuebung-brandschutzwoche
CATEGORIES:Gemeinschaftsübung
ATTACH;FMTTYPE=image/jpeg:https://ff-kreuzberg.de/wp-content/uploads/2025/04/FF-Kreuzberg-Gemeinschaftsuebung-Ahornoed-Vorbereitungen-fuer-die-Ueberdruckbelueftung.jpg
END:VEVENT
BEGIN:VEVENT
DTSTART;TZID=Europe/Berlin:20260925T191500
DTEND;TZID=Europe/Berlin:20260925T220000
DTSTAMP:20260425T122253
CREATED:20260110T160714Z
LAST-MODIFIED:20260110T160718Z
UID:10660-1790363700-1790373600@ff-kreuzberg.de
SUMMARY:Atemschutzübung - Grafenau - Termin 3
DESCRIPTION:Übungsdatum: 25.09.2026Übungsuhrzeit: 19:15 UhrÜbungsart: AtemschutzÜbungsort: GrafenauÜbungsleiter: Markus Raab
URL:https://ff-kreuzberg.de/event/atemschutzuebung-grafenau-termin-3
CATEGORIES:Atemschutzübung
ATTACH;FMTTYPE=image/jpeg:https://ff-kreuzberg.de/wp-content/uploads/2023/07/FF-Kreuzberg-Atemschutzuebungsstrecke-Grafenau-28.07.2023-In-der-Umkleide.jpg
END:VEVENT
BEGIN:VEVENT
DTSTART;TZID=Europe/Berlin:20260927T180000
DTEND;TZID=Europe/Berlin:20260927T220000
DTSTAMP:20260425T122253
CREATED:20260110T160918Z
LAST-MODIFIED:20260110T164123Z
UID:10662-1790532000-1790546400@ff-kreuzberg.de
SUMMARY:Übung - Leistungsabzeichen - Termin 2
DESCRIPTION:Übungsdatum: 27.09.2026Übungsuhrzeit: 18:00 UhrÜbungsart: Übung LeistungsabzeichenÜbungsort: KreuzbergÜbungsleiter: Fabian Seidl
URL:https://ff-kreuzberg.de/event/uebungs-leistungsabzeichen-termin-2
CATEGORIES:Leistungsabzeichen
ATTACH;FMTTYPE=image/jpeg:https://ff-kreuzberg.de/wp-content/uploads/2022/10/FF-Kreuzberg-Leistungsabzeichen-2022-Melder-am-Verteiler.jpg
END:VEVENT
BEGIN:VEVENT
DTSTART;TZID=Europe/Berlin:20261004T180000
DTEND;TZID=Europe/Berlin:20261004T220000
DTSTAMP:20260425T122253
CREATED:20260110T161108Z
LAST-MODIFIED:20260110T161112Z
UID:10664-1791136800-1791151200@ff-kreuzberg.de
SUMMARY:Übung - Leistungsabzeichen - Termin 3
DESCRIPTION:Übungsdatum: 04.10.2026Übungsuhrzeit: 18:00 UhrÜbungsart: Übung LeistungsabzeichenÜbungsort: KreuzbergÜbungsleiter: Fabian Seidl
URL:https://ff-kreuzberg.de/event/uebung-leistungsabzeichen-termin-3
CATEGORIES:Leistungsabzeichen
ATTACH;FMTTYPE=image/jpeg:https://ff-kreuzberg.de/wp-content/uploads/2022/10/FF-Kreuzberg-Uebung-Leistungsabzeichen-07.10.2022-Unser-LF.jpg
END:VEVENT
BEGIN:VEVENT
DTSTART;TZID=Europe/Berlin:20261010T080000
DTEND;TZID=Europe/Berlin:20261010T230000
DTSTAMP:20260425T122253
CREATED:20260110T161323Z
LAST-MODIFIED:20260110T161326Z
UID:10666-1791619200-1791673200@ff-kreuzberg.de
SUMMARY:Abnahme - Leistungsabzeichen
DESCRIPTION:Übungsdatum: 10.10.2026Übungsuhrzeit: 8:00 UhrÜbungsart: Abnahme LeistungsabezichenÜbungsort: KreuzbergÜbungsleiter: Alle
URL:https://ff-kreuzberg.de/event/abnahme-leistungsabzeichen
CATEGORIES:Leistungsabzeichen
ATTACH;FMTTYPE=image/jpeg:https://ff-kreuzberg.de/wp-content/uploads/2024/10/FF-Kreuzberg-Leistungsabzeichen-2024-Gruppenfoto.jpeg
END:VEVENT
BEGIN:VEVENT
DTSTART;TZID=Europe/Berlin:20261016T190000
DTEND;TZID=Europe/Berlin:20261016T220000
DTSTAMP:20260425T122253
CREATED:20260110T161520Z
LAST-MODIFIED:20260110T161523Z
UID:10668-1792177200-1792188000@ff-kreuzberg.de
SUMMARY:Funkübung - Winkelbrunn
DESCRIPTION:Übungsdatum: 16.10.2026Übungsuhrzeit: 19:00 UhrÜbungsart: FunkübungÜbungsort: WinkelbrunnÜbungsleiter: Jugend
URL:https://ff-kreuzberg.de/event/funkuebung-winkelbrunn
CATEGORIES:Funkübung
ATTACH;FMTTYPE=image/jpeg:https://ff-kreuzberg.de/wp-content/uploads/2025/07/FF-Kreuzberg-Funkuebung-Neureut-18.08.2025-Warten-auf-den-Funkspruch.jpg
END:VEVENT
BEGIN:VEVENT
DTSTART;TZID=Europe/Berlin:20261030T190000
DTEND;TZID=Europe/Berlin:20261030T220000
DTSTAMP:20260425T122253
CREATED:20260110T161724Z
LAST-MODIFIED:20260110T161727Z
UID:10670-1793386800-1793397600@ff-kreuzberg.de
SUMMARY:Hauptübung - Kreuzberg
DESCRIPTION:Übungsdatum: 30.10.2026Übungsuhrzeit: 19:00 UhrÜbungsart: HauptübungÜbungsort: KreuzbergÜbungsleiter: Wolfgang Nußhart
URL:https://ff-kreuzberg.de/event/hauptubung-kreuzberg-event2026-3-2
CATEGORIES:Hauptübung
ATTACH;FMTTYPE=image/jpeg:https://ff-kreuzberg.de/wp-content/uploads/2023/08/FF-Kreuzberg-Hauptuebung-Schwieriges-Gelaende-04.08.2023-Schaumangriff.jpg
END:VEVENT
BEGIN:VEVENT
DTSTART;TZID=Europe/Berlin:20261113T190000
DTEND;TZID=Europe/Berlin:20261113T220000
DTSTAMP:20260425T122253
CREATED:20260110T161847Z
LAST-MODIFIED:20260110T161849Z
UID:10672-1794596400-1794607200@ff-kreuzberg.de
SUMMARY:Hauptübung - Kreuzberg
DESCRIPTION:Übungsdatum: 13.11.2026Übungsuhrzeit: 19:00 UhrÜbungsart: HauptübungÜbungsort: KreuzbergÜbungsleiter: Lothar Ilg
URL:https://ff-kreuzberg.de/event/hauptuebung-kreuzberg
CATEGORIES:Hauptübung
ATTACH;FMTTYPE=image/jpeg:https://ff-kreuzberg.de/wp-content/uploads/2024/11/FF-Kreuzberg-Hauptuebung-Feuerwehr-im-Winter-Loeschwasserbehaelter-Kreuzberg-Anger.jpg
END:VEVENT
BEGIN:VEVENT
DTSTART;TZID=Europe/Berlin:20261127T190000
DTEND;TZID=Europe/Berlin:20261127T220000
DTSTAMP:20260425T122253
CREATED:20260110T162026Z
LAST-MODIFIED:20260110T162028Z
UID:10674-1795806000-1795816800@ff-kreuzberg.de
SUMMARY:Einwinterung
DESCRIPTION:Übungsdatum: 27.11.2026Übungsuhrzeit: 19:00 UhrÜbungsart: EinwinterungÜbungsort: KreuzbergÜbungsleiter: Michael Pauli
URL:https://ff-kreuzberg.de/event/einwinterung
CATEGORIES:Hauptübung
ATTACH;FMTTYPE=image/jpeg:https://ff-kreuzberg.de/wp-content/uploads/2018/11/2018-11-23-20.08.41.jpg
END:VEVENT
BEGIN:VEVENT
DTSTART;TZID=Europe/Berlin:20261204T190000
DTEND;TZID=Europe/Berlin:20261204T220000
DTSTAMP:20260425T122253
CREATED:20260110T162150Z
LAST-MODIFIED:20260110T162153Z
UID:10676-1796410800-1796421600@ff-kreuzberg.de
SUMMARY:Atemschutzübung - Grafenau - Termin 4
DESCRIPTION:Übungsdatum: 04.12.2026Übungsuhrzeit: 19:00 UhrÜbungsart: AtemschutzÜbungsort: GrafenauÜbungsleiter: Markus Raab
URL:https://ff-kreuzberg.de/event/atemschutzuebung-grafenau-termin-4
CATEGORIES:Atemschutzübung
ATTACH;FMTTYPE=image/jpeg:https://ff-kreuzberg.de/wp-content/uploads/2023/07/FF-Kreuzberg-Atemschutzuebungsstrecke-Grafenau-28.07.2023-In-der-Strecke.jpg
END:VEVENT
END:VCALENDAR